BEGIN:VCALENDAR
VERSION:2.0
PRODID:-//Northern Denver - ECPv6.15.13//NONSGML v1.0//EN
CALSCALE:GREGORIAN
METHOD:PUBLISH
X-WR-CALNAME:Northern Denver
X-ORIGINAL-URL:https://nd.ascentcolorado.org
X-WR-CALDESC:Events for Northern Denver
REFRESH-INTERVAL;VALUE=DURATION:PT1H
X-Robots-Tag:noindex
X-PUBLISHED-TTL:PT1H
BEGIN:VTIMEZONE
TZID:America/Denver
BEGIN:DAYLIGHT
TZOFFSETFROM:-0700
TZOFFSETTO:-0600
TZNAME:MDT
DTSTART:20250309T090000
END:DAYLIGHT
BEGIN:STANDARD
TZOFFSETFROM:-0600
TZOFFSETTO:-0700
TZNAME:MST
DTSTART:20251102T080000
END:STANDARD
BEGIN:DAYLIGHT
TZOFFSETFROM:-0700
TZOFFSETTO:-0600
TZNAME:MDT
DTSTART:20260308T090000
END:DAYLIGHT
BEGIN:STANDARD
TZOFFSETFROM:-0600
TZOFFSETTO:-0700
TZNAME:MST
DTSTART:20261101T080000
END:STANDARD
BEGIN:DAYLIGHT
TZOFFSETFROM:-0700
TZOFFSETTO:-0600
TZNAME:MDT
DTSTART:20270314T090000
END:DAYLIGHT
BEGIN:STANDARD
TZOFFSETFROM:-0600
TZOFFSETTO:-0700
TZNAME:MST
DTSTART:20271107T080000
END:STANDARD
END:VTIMEZONE
BEGIN:VEVENT
DTSTART;TZID=America/Denver:20260227T153000
DTEND;TZID=America/Denver:20260227T173000
DTSTAMP:20260420T034311
CREATED:20251216T190709Z
LAST-MODIFIED:20251216T190709Z
UID:10000040-1772206200-1772213400@nd.ascentcolorado.org
SUMMARY:Girls Basketball Practice
DESCRIPTION:Girls basketball practice @ Homyak
URL:https://nd.ascentcolorado.org/event/girls-basketball-practice-20/
LOCATION:Homyak School\, 3927 York Street\, Dacono\, 80514\, United States
CATEGORIES:Athletics
END:VEVENT
BEGIN:VEVENT
DTSTART;TZID=America/Denver:20260226T153000
DTEND;TZID=America/Denver:20260226T173000
DTSTAMP:20260420T034311
CREATED:20251216T190604Z
LAST-MODIFIED:20251216T190604Z
UID:10000039-1772119800-1772127000@nd.ascentcolorado.org
SUMMARY:Girls Basketball Practice
DESCRIPTION:Girls basketball practice @ Homyak
URL:https://nd.ascentcolorado.org/event/girls-basketball-practice-19/
LOCATION:Homyak School\, 3927 York Street\, Dacono\, 80514\, United States
CATEGORIES:Athletics
END:VEVENT
BEGIN:VEVENT
DTSTART;TZID=America/Denver:20260224T160000
DTEND;TZID=America/Denver:20260224T170000
DTSTAMP:20260420T034311
CREATED:20251216T190455Z
LAST-MODIFIED:20260120T150810Z
UID:10000038-1771948800-1771952400@nd.ascentcolorado.org
SUMMARY:Girls Basketball Practice - Parent Scrimmage
DESCRIPTION:Girls basketball practice @ Homyak \nGreat opportunity to scrimmage your child!
URL:https://nd.ascentcolorado.org/event/girls-basketball-practice-18/
LOCATION:Homyak School\, 3927 York Street\, Dacono\, 80514\, United States
CATEGORIES:Athletics
END:VEVENT
BEGIN:VEVENT
DTSTART;TZID=America/Denver:20260223T160000
DTEND;TZID=America/Denver:20260223T180000
DTSTAMP:20260420T034311
CREATED:20260108T152439Z
LAST-MODIFIED:20260108T152439Z
UID:10000062-1771862400-1771869600@nd.ascentcolorado.org
SUMMARY:Girls Basketball Game - Home
DESCRIPTION:Girls Basketball Game @ Home
URL:https://nd.ascentcolorado.org/event/girls-basketball-game-home-3/
LOCATION:Homyak School\, 3927 York Street\, Dacono\, 80514\, United States
CATEGORIES:Athletics
END:VEVENT
BEGIN:VEVENT
DTSTART;TZID=America/Denver:20260220T153000
DTEND;TZID=America/Denver:20260220T173000
DTSTAMP:20260420T034311
CREATED:20251216T185553Z
LAST-MODIFIED:20251216T185553Z
UID:10000036-1771601400-1771608600@nd.ascentcolorado.org
SUMMARY:Girls Basketball Practice
DESCRIPTION:Girls basketball practice @ Homyak
URL:https://nd.ascentcolorado.org/event/girls-basketball-practice-17/
LOCATION:Homyak School\, 3927 York Street\, Dacono\, 80514\, United States
CATEGORIES:Athletics
END:VEVENT
BEGIN:VEVENT
DTSTART;TZID=America/Denver:20260217T153000
DTEND;TZID=America/Denver:20260217T173000
DTSTAMP:20260420T034311
CREATED:20251216T185410Z
LAST-MODIFIED:20251216T185410Z
UID:10000034-1771342200-1771349400@nd.ascentcolorado.org
SUMMARY:Girls Basketball Practice
DESCRIPTION:Girls basketball practice @ Homyak
URL:https://nd.ascentcolorado.org/event/girls-basketball-practice-15/
LOCATION:Homyak School\, 3927 York Street\, Dacono\, 80514\, United States
CATEGORIES:Athletics
END:VEVENT
BEGIN:VEVENT
DTSTART;TZID=America/Denver:20260210T170000
DTEND;TZID=America/Denver:20260210T190000
DTSTAMP:20260420T034311
CREATED:20251216T184959Z
LAST-MODIFIED:20251216T184959Z
UID:10000030-1770742800-1770750000@nd.ascentcolorado.org
SUMMARY:Chick-Fil-A Fundraiser (Larkridge location)
DESCRIPTION:Join us for our fundraiser at Chick-Fil-A located in the Larkridge location.
URL:https://nd.ascentcolorado.org/event/chick-fil-a-fundraiser-larkridge-location/
LOCATION:Homyak School\, 3927 York Street\, Dacono\, 80514\, United States
CATEGORIES:Fundraiser
END:VEVENT
BEGIN:VEVENT
DTSTART;TZID=America/Denver:20260210T153000
DTEND;TZID=America/Denver:20260210T173000
DTSTAMP:20260420T034311
CREATED:20251216T184720Z
LAST-MODIFIED:20251216T184720Z
UID:10000029-1770737400-1770744600@nd.ascentcolorado.org
SUMMARY:Girls Basketball Practice
DESCRIPTION:Girls basketball practice @ Homyak
URL:https://nd.ascentcolorado.org/event/girls-basketball-practice-13/
LOCATION:Homyak School\, 3927 York Street\, Dacono\, 80514\, United States
CATEGORIES:Athletics
END:VEVENT
BEGIN:VEVENT
DTSTART;TZID=America/Denver:20260206T160000
DTEND;TZID=America/Denver:20260206T180000
DTSTAMP:20260420T034311
CREATED:20251216T184305Z
LAST-MODIFIED:20251216T184305Z
UID:10000027-1770393600-1770400800@nd.ascentcolorado.org
SUMMARY:Girls Basketball Game - Home
DESCRIPTION:Girls basketball game @ Homyak (against Estes Park MS)
URL:https://nd.ascentcolorado.org/event/girls-basketball-game-home-2/
LOCATION:Homyak School\, 3927 York Street\, Dacono\, 80514\, United States
CATEGORIES:Athletics
END:VEVENT
BEGIN:VEVENT
DTSTART;TZID=America/Denver:20260205T153000
DTEND;TZID=America/Denver:20260205T173000
DTSTAMP:20260420T034311
CREATED:20251216T184151Z
LAST-MODIFIED:20251216T184151Z
UID:10000026-1770305400-1770312600@nd.ascentcolorado.org
SUMMARY:Girls Basketball Practice
DESCRIPTION:Girls basketball practice @ Homyak
URL:https://nd.ascentcolorado.org/event/girls-basketball-practice-12/
LOCATION:Homyak School\, 3927 York Street\, Dacono\, 80514\, United States
CATEGORIES:Athletics
END:VEVENT
BEGIN:VEVENT
DTSTART;TZID=America/Denver:20260203T153000
DTEND;TZID=America/Denver:20260203T173000
DTSTAMP:20260420T034311
CREATED:20251216T181540Z
LAST-MODIFIED:20251216T181540Z
UID:10000023-1770132600-1770139800@nd.ascentcolorado.org
SUMMARY:Girls Basketball Practice
DESCRIPTION:Girls basketball practice @ Homyak
URL:https://nd.ascentcolorado.org/event/girls-basketball-practice-11/
LOCATION:Homyak School\, 3927 York Street\, Dacono\, 80514\, United States
CATEGORIES:Athletics
END:VEVENT
BEGIN:VEVENT
DTSTART;TZID=America/Denver:20260130T153000
DTEND;TZID=America/Denver:20260130T173000
DTSTAMP:20260420T034311
CREATED:20251216T174048Z
LAST-MODIFIED:20251216T180145Z
UID:10000018-1769787000-1769794200@nd.ascentcolorado.org
SUMMARY:Girls Basketball Practice
DESCRIPTION:Girls basketball practice @ Homyak
URL:https://nd.ascentcolorado.org/event/girls-basketball-practice-9/
LOCATION:Homyak School\, 3927 York Street\, Dacono\, 80514\, United States
CATEGORIES:Athletics
END:VEVENT
BEGIN:VEVENT
DTSTART;TZID=America/Denver:20260127T153000
DTEND;TZID=America/Denver:20260127T173000
DTSTAMP:20260420T034311
CREATED:20251216T173149Z
LAST-MODIFIED:20251216T180130Z
UID:10000015-1769527800-1769535000@nd.ascentcolorado.org
SUMMARY:Girls Basketball Practice
DESCRIPTION:Girls basketball practice @ Homyak
URL:https://nd.ascentcolorado.org/event/girls-basketball-practice-8/
LOCATION:Homyak School\, 3927 York Street\, Dacono\, 80514\, United States
CATEGORIES:Athletics
END:VEVENT
BEGIN:VEVENT
DTSTART;TZID=America/Denver:20260123T160000
DTEND;TZID=America/Denver:20260123T180000
DTSTAMP:20260420T034311
CREATED:20251216T173040Z
LAST-MODIFIED:20251216T173040Z
UID:10000014-1769184000-1769191200@nd.ascentcolorado.org
SUMMARY:Girls Basketball Game - Home
DESCRIPTION:Girls basketball game @ Homyak
URL:https://nd.ascentcolorado.org/event/girls-basketball-game-home/
LOCATION:Homyak School\, 3927 York Street\, Dacono\, 80514\, United States
CATEGORIES:Athletics
END:VEVENT
BEGIN:VEVENT
DTSTART;TZID=America/Denver:20260122T153000
DTEND;TZID=America/Denver:20260122T173000
DTSTAMP:20260420T034311
CREATED:20251216T172829Z
LAST-MODIFIED:20251216T180118Z
UID:10000013-1769095800-1769103000@nd.ascentcolorado.org
SUMMARY:Girls Basketball Practice
DESCRIPTION:Girts basketball practice @ Homyak
URL:https://nd.ascentcolorado.org/event/girls-basketball-practice-7/
LOCATION:Homyak School\, 3927 York Street\, Dacono\, 80514\, United States
CATEGORIES:Athletics
END:VEVENT
BEGIN:VEVENT
DTSTART;TZID=America/Denver:20260120T153000
DTEND;TZID=America/Denver:20260120T173000
DTSTAMP:20260420T034311
CREATED:20251216T180808Z
LAST-MODIFIED:20251216T180808Z
UID:10000021-1768923000-1768930200@nd.ascentcolorado.org
SUMMARY:Girls Basketball Practice
DESCRIPTION:Girls basketball practice @ Homyak
URL:https://nd.ascentcolorado.org/event/girls-basketball-practice-10/
LOCATION:Homyak School\, 3927 York Street\, Dacono\, 80514\, United States
CATEGORIES:Athletics
END:VEVENT
BEGIN:VEVENT
DTSTART;TZID=America/Denver:20260115T153000
DTEND;TZID=America/Denver:20260115T173000
DTSTAMP:20260420T034311
CREATED:20251216T171001Z
LAST-MODIFIED:20251216T175949Z
UID:10000008-1768491000-1768498200@nd.ascentcolorado.org
SUMMARY:Girls Basketball Practice
DESCRIPTION:Girls basketball practice @ Homyak
URL:https://nd.ascentcolorado.org/event/girls-basketball-practice-5/
LOCATION:Homyak School\, 3927 York Street\, Dacono\, 80514\, United States
CATEGORIES:Athletics
END:VEVENT
BEGIN:VEVENT
DTSTART;TZID=America/Denver:20260113T153000
DTEND;TZID=America/Denver:20260113T173000
DTSTAMP:20260420T034312
CREATED:20251216T165507Z
LAST-MODIFIED:20251216T175208Z
UID:10000006-1768318200-1768325400@nd.ascentcolorado.org
SUMMARY:Girls Basketball Practice
DESCRIPTION:Girls basketball practice @ Homyak
URL:https://nd.ascentcolorado.org/event/girls-basketball-practice-4/
LOCATION:Homyak School\, 3927 York Street\, Dacono\, 80514\, United States
CATEGORIES:Athletics
END:VEVENT
BEGIN:VEVENT
DTSTART;TZID=America/Denver:20260112T153000
DTEND;TZID=America/Denver:20260112T173000
DTSTAMP:20260420T034312
CREATED:20260108T150819Z
LAST-MODIFIED:20260108T150855Z
UID:10000061-1768231800-1768239000@nd.ascentcolorado.org
SUMMARY:Girls Basketball Practice
DESCRIPTION:Girls Basketball Practice @ Homyak
URL:https://nd.ascentcolorado.org/event/girls-basketball-practice-21/
LOCATION:Homyak School\, 3927 York Street\, Dacono\, 80514\, United States
CATEGORIES:Athletics
END:VEVENT
BEGIN:VEVENT
DTSTART;TZID=America/Denver:20260109T153000
DTEND;TZID=America/Denver:20260109T173000
DTSTAMP:20260420T034312
CREATED:20251216T165024Z
LAST-MODIFIED:20251216T175145Z
UID:10000005-1767972600-1767979800@nd.ascentcolorado.org
SUMMARY:Girls Basketball Practice
DESCRIPTION:Girls basketball practice @ Homyak
URL:https://nd.ascentcolorado.org/event/girls-basketball-practice-3/
LOCATION:Homyak School\, 3927 York Street\, Dacono\, 80514\, United States
CATEGORIES:Athletics
END:VEVENT
BEGIN:VEVENT
DTSTART;TZID=America/Denver:20260108T153000
DTEND;TZID=America/Denver:20260108T173000
DTSTAMP:20260420T034312
CREATED:20251216T164653Z
LAST-MODIFIED:20260108T191250Z
UID:10000004-1767886200-1767893400@nd.ascentcolorado.org
SUMMARY:Girls Basketball Practice - CANCELED
DESCRIPTION:Girls Basketball Practice @ Homyak
URL:https://nd.ascentcolorado.org/event/girls-basketball-practice-2/
LOCATION:Homyak School\, 3927 York Street\, Dacono\, 80514\, United States
CATEGORIES:Athletics
END:VEVENT
BEGIN:VEVENT
DTSTART;TZID=America/Denver:20260107T153000
DTEND;TZID=America/Denver:20260107T173000
DTSTAMP:20260420T034312
CREATED:20251216T164514Z
LAST-MODIFIED:20251216T175112Z
UID:10000003-1767799800-1767807000@nd.ascentcolorado.org
SUMMARY:Girls Basketball Practice
DESCRIPTION:Girls Basketball Practice @ Homyak
URL:https://nd.ascentcolorado.org/event/girls-basketball-practice/
LOCATION:Homyak School\, 3927 York Street\, Dacono\, 80514\, United States
CATEGORIES:Athletics
END:VEVENT
END:VCALENDAR