BEGIN:VCALENDAR
VERSION:2.0
PRODID:-//Northern Denver - ECPv6.15.13//NONSGML v1.0//EN
CALSCALE:GREGORIAN
METHOD:PUBLISH
X-ORIGINAL-URL:https://nd.ascentcolorado.org
X-WR-CALDESC:Events for Northern Denver
REFRESH-INTERVAL;VALUE=DURATION:PT1H
X-Robots-Tag:noindex
X-PUBLISHED-TTL:PT1H
BEGIN:VTIMEZONE
TZID:America/Denver
BEGIN:DAYLIGHT
TZOFFSETFROM:-0700
TZOFFSETTO:-0600
TZNAME:MDT
DTSTART:20250309T090000
END:DAYLIGHT
BEGIN:STANDARD
TZOFFSETFROM:-0600
TZOFFSETTO:-0700
TZNAME:MST
DTSTART:20251102T080000
END:STANDARD
BEGIN:DAYLIGHT
TZOFFSETFROM:-0700
TZOFFSETTO:-0600
TZNAME:MDT
DTSTART:20260308T090000
END:DAYLIGHT
BEGIN:STANDARD
TZOFFSETFROM:-0600
TZOFFSETTO:-0700
TZNAME:MST
DTSTART:20261101T080000
END:STANDARD
BEGIN:DAYLIGHT
TZOFFSETFROM:-0700
TZOFFSETTO:-0600
TZNAME:MDT
DTSTART:20270314T090000
END:DAYLIGHT
BEGIN:STANDARD
TZOFFSETFROM:-0600
TZOFFSETTO:-0700
TZNAME:MST
DTSTART:20271107T080000
END:STANDARD
END:VTIMEZONE
BEGIN:VEVENT
DTSTART;TZID=America/Denver:20260508T084500
DTEND;TZID=America/Denver:20260508T143000
DTSTAMP:20260423T084257
CREATED:20260318T172127Z
LAST-MODIFIED:20260318T172127Z
UID:10000081-1778229900-1778250600@nd.ascentcolorado.org
SUMMARY:5th Grade Field Trip
DESCRIPTION:Going to Nature and Science Museum.
URL:https://nd.ascentcolorado.org/event/5th-grade-field-trip-2/
LOCATION:Denver Museum of Nature & Science\, 2001 Colorado Blvd.\, Denver\, CO\, 80205\, United States
CATEGORIES:Field Trip
END:VEVENT
BEGIN:VEVENT
DTSTART;TZID=America/Denver:20260511T083000
DTEND;TZID=America/Denver:20260511T143000
DTSTAMP:20260423T084257
CREATED:20260318T172303Z
LAST-MODIFIED:20260318T172303Z
UID:10000082-1778488200-1778509800@nd.ascentcolorado.org
SUMMARY:3rd Grade Field Trip
DESCRIPTION:Going to Denver Nature & Science Museum
URL:https://nd.ascentcolorado.org/event/3rd-grade-field-trip-2/
LOCATION:Denver Museum of Nature & Science\, 2001 Colorado Blvd.\, Denver\, CO\, 80205\, United States
CATEGORIES:Field Trip
END:VEVENT
END:VCALENDAR