BEGIN:VCALENDAR
VERSION:2.0
PRODID:-//Northern Denver - ECPv6.15.13//NONSGML v1.0//EN
CALSCALE:GREGORIAN
METHOD:PUBLISH
X-WR-CALNAME:Northern Denver
X-ORIGINAL-URL:https://nd.ascentcolorado.org
X-WR-CALDESC:Events for Northern Denver
REFRESH-INTERVAL;VALUE=DURATION:PT1H
X-Robots-Tag:noindex
X-PUBLISHED-TTL:PT1H
BEGIN:VTIMEZONE
TZID:America/Denver
BEGIN:DAYLIGHT
TZOFFSETFROM:-0700
TZOFFSETTO:-0600
TZNAME:MDT
DTSTART:20250309T090000
END:DAYLIGHT
BEGIN:STANDARD
TZOFFSETFROM:-0600
TZOFFSETTO:-0700
TZNAME:MST
DTSTART:20251102T080000
END:STANDARD
BEGIN:DAYLIGHT
TZOFFSETFROM:-0700
TZOFFSETTO:-0600
TZNAME:MDT
DTSTART:20260308T090000
END:DAYLIGHT
BEGIN:STANDARD
TZOFFSETFROM:-0600
TZOFFSETTO:-0700
TZNAME:MST
DTSTART:20261101T080000
END:STANDARD
BEGIN:DAYLIGHT
TZOFFSETFROM:-0700
TZOFFSETTO:-0600
TZNAME:MDT
DTSTART:20270314T090000
END:DAYLIGHT
BEGIN:STANDARD
TZOFFSETFROM:-0600
TZOFFSETTO:-0700
TZNAME:MST
DTSTART:20271107T080000
END:STANDARD
END:VTIMEZONE
BEGIN:VEVENT
DTSTART;VALUE=DATE:20260306
DTEND;VALUE=DATE:20260307
DTSTAMP:20260421T035235
CREATED:20251216T215652Z
LAST-MODIFIED:20251218T184919Z
UID:10000044-1772755200-1772841599@nd.ascentcolorado.org
SUMMARY:Parent/Teacher Conferences - No School
DESCRIPTION:Parent-Teacher Conferences. Please watch for more information from your students teacher for details and scheduling.
URL:https://nd.ascentcolorado.org/event/parent-teacher-conferences/
CATEGORIES:No School
END:VEVENT
BEGIN:VEVENT
DTSTART;VALUE=DATE:20260309
DTEND;VALUE=DATE:20260314
DTSTAMP:20260421T035235
CREATED:20251216T215754Z
LAST-MODIFIED:20251216T215754Z
UID:10000045-1773014400-1773446399@nd.ascentcolorado.org
SUMMARY:Spring Break
DESCRIPTION:Enjoy some rest during spring break.
URL:https://nd.ascentcolorado.org/event/spring-break/
CATEGORIES:No School
END:VEVENT
END:VCALENDAR