BEGIN:VCALENDAR
VERSION:2.0
PRODID:-//Northern Denver - ECPv6.15.13//NONSGML v1.0//EN
CALSCALE:GREGORIAN
METHOD:PUBLISH
X-WR-CALNAME:Northern Denver
X-ORIGINAL-URL:https://nd.ascentcolorado.org
X-WR-CALDESC:Events for Northern Denver
REFRESH-INTERVAL;VALUE=DURATION:PT1H
X-Robots-Tag:noindex
X-PUBLISHED-TTL:PT1H
BEGIN:VTIMEZONE
TZID:America/Denver
BEGIN:DAYLIGHT
TZOFFSETFROM:-0700
TZOFFSETTO:-0600
TZNAME:MDT
DTSTART:20250309T090000
END:DAYLIGHT
BEGIN:STANDARD
TZOFFSETFROM:-0600
TZOFFSETTO:-0700
TZNAME:MST
DTSTART:20251102T080000
END:STANDARD
BEGIN:DAYLIGHT
TZOFFSETFROM:-0700
TZOFFSETTO:-0600
TZNAME:MDT
DTSTART:20260308T090000
END:DAYLIGHT
BEGIN:STANDARD
TZOFFSETFROM:-0600
TZOFFSETTO:-0700
TZNAME:MST
DTSTART:20261101T080000
END:STANDARD
BEGIN:DAYLIGHT
TZOFFSETFROM:-0700
TZOFFSETTO:-0600
TZNAME:MDT
DTSTART:20270314T090000
END:DAYLIGHT
BEGIN:STANDARD
TZOFFSETFROM:-0600
TZOFFSETTO:-0700
TZNAME:MST
DTSTART:20271107T080000
END:STANDARD
END:VTIMEZONE
BEGIN:VEVENT
DTSTART;TZID=America/Denver:20260512T084500
DTEND;TZID=America/Denver:20260512T134500
DTSTAMP:20260419T122111
CREATED:20260326T160028Z
LAST-MODIFIED:20260326T160028Z
UID:10000091-1778575500-1778593500@nd.ascentcolorado.org
SUMMARY:2nd Grade Field Trip
DESCRIPTION:Butterfly Pavilion
URL:https://nd.ascentcolorado.org/event/2nd-grade-field-trip-2/
LOCATION:Butterfly Pavilion\, 6252 W 104th Avenue\, Westminster\, CO\, 80020\, United States
CATEGORIES:Field Trip
END:VEVENT
BEGIN:VEVENT
DTSTART;TZID=America/Denver:20260514T090000
DTEND;TZID=America/Denver:20260514T140000
DTSTAMP:20260419T122111
CREATED:20260416T150343Z
LAST-MODIFIED:20260416T150343Z
UID:10000101-1778749200-1778767200@nd.ascentcolorado.org
SUMMARY:Field Trip: House Camelot
DESCRIPTION:Group hike at Chautauqua Park in Boulder\, CO.
URL:https://nd.ascentcolorado.org/event/field-trip-house-camelot/
LOCATION:Chautauqua Park\, 900 Baseline Rd & 9th St\, Boulder\, CO\, 80302\, United States
CATEGORIES:Field Trip
END:VEVENT
END:VCALENDAR