BEGIN:VCALENDAR
VERSION:2.0
PRODID:-//Northern Denver - ECPv6.15.13//NONSGML v1.0//EN
CALSCALE:GREGORIAN
METHOD:PUBLISH
X-ORIGINAL-URL:https://nd.ascentcolorado.org
X-WR-CALDESC:Events for Northern Denver
REFRESH-INTERVAL;VALUE=DURATION:PT1H
X-Robots-Tag:noindex
X-PUBLISHED-TTL:PT1H
BEGIN:VTIMEZONE
TZID:America/Denver
BEGIN:DAYLIGHT
TZOFFSETFROM:-0700
TZOFFSETTO:-0600
TZNAME:MDT
DTSTART:20250309T090000
END:DAYLIGHT
BEGIN:STANDARD
TZOFFSETFROM:-0600
TZOFFSETTO:-0700
TZNAME:MST
DTSTART:20251102T080000
END:STANDARD
BEGIN:DAYLIGHT
TZOFFSETFROM:-0700
TZOFFSETTO:-0600
TZNAME:MDT
DTSTART:20260308T090000
END:DAYLIGHT
BEGIN:STANDARD
TZOFFSETFROM:-0600
TZOFFSETTO:-0700
TZNAME:MST
DTSTART:20261101T080000
END:STANDARD
BEGIN:DAYLIGHT
TZOFFSETFROM:-0700
TZOFFSETTO:-0600
TZNAME:MDT
DTSTART:20270314T090000
END:DAYLIGHT
BEGIN:STANDARD
TZOFFSETFROM:-0600
TZOFFSETTO:-0700
TZNAME:MST
DTSTART:20271107T080000
END:STANDARD
END:VTIMEZONE
BEGIN:VEVENT
DTSTART;TZID=America/Denver:20260501T083000
DTEND;TZID=America/Denver:20260501T143000
DTSTAMP:20260423T022305
CREATED:20260327T183909Z
LAST-MODIFIED:20260327T183909Z
UID:10000093-1777624200-1777645800@nd.ascentcolorado.org
SUMMARY:9th Grade Field Trip
DESCRIPTION:Symphony Field Trip
URL:https://nd.ascentcolorado.org/event/9th-grade-field-trip-2/
LOCATION:Boettcher Concert Hall at Denver Performing Arts Complex\, 1000 14th St #15\, Denver\, CO\, 80202\, United States
CATEGORIES:Field Trip
END:VEVENT
END:VCALENDAR